BEGIN:VCALENDAR
VERSION:2.0
PRODID:-//Sloley Parish Council//Meeting Calendar//EN
CALSCALE:GREGORIAN
METHOD:PUBLISH
BEGIN:VEVENT
UID:70717-20260218@sloley-pc.gov.uk
DTSTAMP:20260425T102411Z
DTSTART;VALUE=DATE:20260218
DTEND;VALUE=DATE:20260219
SUMMARY:Extraordinary Meeting 18 February 2026
DESCRIPTION:Full Council Meeting\nView details: https://sloley-pc.gov.uk/meetings/extraordinary-meeting-18-february-2026/
URL:https://sloley-pc.gov.uk/meetings/extraordinary-meeting-18-february-2026/
END:VEVENT
END:VCALENDAR
