BEGIN:VCALENDAR
VERSION:2.0
PRODID:-//Sloley Parish Council//Meeting Calendar//EN
CALSCALE:GREGORIAN
METHOD:PUBLISH
BEGIN:VEVENT
UID:70691-20261126@sloley-pc.gov.uk
DTSTAMP:20260425T101918Z
DTSTART;VALUE=DATE:20261126
DTEND;VALUE=DATE:20261127
SUMMARY:Parish Council Meeting 26 November 2026
DESCRIPTION:Full Council Meeting\nView details: https://sloley-pc.gov.uk/meetings/parish-council-meeting-26-november-2026/
URL:https://sloley-pc.gov.uk/meetings/parish-council-meeting-26-november-2026/
END:VEVENT
END:VCALENDAR
