BEGIN:VCALENDAR
VERSION:2.0
PRODID:-//Sloley Parish Council//Meeting Calendar//EN
CALSCALE:GREGORIAN
METHOD:PUBLISH
BEGIN:VEVENT
UID:70686-20260326@sloley-pc.gov.uk
DTSTAMP:20260425T112331Z
DTSTART;VALUE=DATE:20260326
DTEND;VALUE=DATE:20260327
SUMMARY:Parish Council Meeting 26th March 2026
DESCRIPTION:Full Council Meeting\nView details: https://sloley-pc.gov.uk/meetings/parish-council-meeting-26th-march-2026/
URL:https://sloley-pc.gov.uk/meetings/parish-council-meeting-26th-march-2026/
END:VEVENT
END:VCALENDAR
