BEGIN:VCALENDAR
VERSION:2.0
PRODID:-//Sloley Parish Council//Meeting Calendar//EN
CALSCALE:GREGORIAN
METHOD:PUBLISH
BEGIN:VEVENT
UID:70685-20260122@sloley-pc.gov.uk
DTSTAMP:20260425T113946Z
DTSTART;VALUE=DATE:20260122
DTEND;VALUE=DATE:20260123
SUMMARY:Parish Council Meeting 22 January 2026
DESCRIPTION:Full Council Meeting\nView details: https://sloley-pc.gov.uk/meetings/parish-council-meeting-22-january-2026/
URL:https://sloley-pc.gov.uk/meetings/parish-council-meeting-22-january-2026/
END:VEVENT
END:VCALENDAR
