BEGIN:VCALENDAR
VERSION:2.0
PRODID:-//Sloley Parish Council//Meeting Calendar//EN
CALSCALE:GREGORIAN
METHOD:PUBLISH
BEGIN:VEVENT
UID:70602-20250521@sloley-pc.gov.uk
DTSTAMP:20260425T153751Z
DTSTART;VALUE=DATE:20250521
DTEND;VALUE=DATE:20250522
SUMMARY:Annual Parish Council Meeting 21 May 2025
DESCRIPTION:Full Council Meeting\nView details: https://sloley-pc.gov.uk/meetings/annual-parish-council-meeting-21-may-2025/
URL:https://sloley-pc.gov.uk/meetings/annual-parish-council-meeting-21-may-2025/
END:VEVENT
END:VCALENDAR
