BEGIN:VCALENDAR
VERSION:2.0
PRODID:-//Sloley Parish Council//Meeting Calendar//EN
CALSCALE:GREGORIAN
METHOD:PUBLISH
BEGIN:VEVENT
UID:70591-20250326@sloley-pc.gov.uk
DTSTAMP:20260425T160851Z
DTSTART;VALUE=DATE:20250326
DTEND;VALUE=DATE:20250327
SUMMARY:Parish Council Meeting 26 March 2025
DESCRIPTION:Full Council Meeting\nView details: https://sloley-pc.gov.uk/meetings/parish-council-meeting-26-march-2025/
URL:https://sloley-pc.gov.uk/meetings/parish-council-meeting-26-march-2025/
END:VEVENT
END:VCALENDAR
