BEGIN:VCALENDAR
VERSION:2.0
PRODID:-//Sloley Parish Council//Meeting Calendar//EN
CALSCALE:GREGORIAN
METHOD:PUBLISH
BEGIN:VEVENT
UID:70587-20250430@sloley-pc.gov.uk
DTSTAMP:20260425T163348Z
DTSTART;VALUE=DATE:20250430
DTEND;VALUE=DATE:20250501
SUMMARY:Extraordinary Parish Council Meeting 30 April 2025
DESCRIPTION:Full Council Meeting\nView details: https://sloley-pc.gov.uk/meetings/parish-council-meeting/
URL:https://sloley-pc.gov.uk/meetings/parish-council-meeting/
END:VEVENT
END:VCALENDAR
