BEGIN:VCALENDAR
VERSION:2.0
PRODID:-//Sloley Parish Council//Meeting Calendar//EN
CALSCALE:GREGORIAN
METHOD:PUBLISH
BEGIN:VEVENT
UID:70537-20241128@sloley-pc.gov.uk
DTSTAMP:20260425T160149Z
DTSTART;VALUE=DATE:20241128
DTEND;VALUE=DATE:20241129
SUMMARY:Council Meeting &#8211\\; 28th November 2024
DESCRIPTION:Full Council Meeting\nView details: https://sloley-pc.gov.uk/meetings/council-meeting-28th-november-2024/
URL:https://sloley-pc.gov.uk/meetings/council-meeting-28th-november-2024/
END:VEVENT
END:VCALENDAR
