BEGIN:VCALENDAR
VERSION:2.0
PRODID:-//Sloley Parish Council//Meeting Calendar//EN
CALSCALE:GREGORIAN
METHOD:PUBLISH
BEGIN:VEVENT
UID:70527-20240627@sloley-pc.gov.uk
DTSTAMP:20260425T175343Z
DTSTART;VALUE=DATE:20240627
DTEND;VALUE=DATE:20240628
SUMMARY:Council Meeting &#8211\\; 27th June 2024
DESCRIPTION:Full Council Meeting\nView details: https://sloley-pc.gov.uk/meetings/council-meeting-27th-june-2024/
URL:https://sloley-pc.gov.uk/meetings/council-meeting-27th-june-2024/
END:VEVENT
END:VCALENDAR
