BEGIN:VCALENDAR
VERSION:2.0
PRODID:-//Sloley Parish Council//Meeting Calendar//EN
CALSCALE:GREGORIAN
METHOD:PUBLISH
BEGIN:VEVENT
UID:70520-20240425@sloley-pc.gov.uk
DTSTAMP:20260425T175250Z
DTSTART;VALUE=DATE:20240425
DTEND;VALUE=DATE:20240426
SUMMARY:Council Meeting &#8211\\; 25th April 2024
DESCRIPTION:Full Council Meeting\nView details: https://sloley-pc.gov.uk/meetings/council-meeting-25th-april-2024/
URL:https://sloley-pc.gov.uk/meetings/council-meeting-25th-april-2024/
END:VEVENT
END:VCALENDAR
