BEGIN:VCALENDAR
VERSION:2.0
PRODID:-//Sloley Parish Council//Meeting Calendar//EN
CALSCALE:GREGORIAN
METHOD:PUBLISH
BEGIN:VEVENT
UID:70510-20240118@sloley-pc.gov.uk
DTSTAMP:20260425T154536Z
DTSTART;VALUE=DATE:20240118
DTEND;VALUE=DATE:20240119
SUMMARY:Council Meeting &#8211\\; 18th January 2024
DESCRIPTION:Full Council Meeting\nView details: https://sloley-pc.gov.uk/meetings/council-meeting-18th-january-2024/
URL:https://sloley-pc.gov.uk/meetings/council-meeting-18th-january-2024/
END:VEVENT
END:VCALENDAR
