BEGIN:VCALENDAR
VERSION:2.0
PRODID:-//Sloley Parish Council//Meeting Calendar//EN
CALSCALE:GREGORIAN
METHOD:PUBLISH
BEGIN:VEVENT
UID:70429-20220101@sloley-pc.gov.uk
DTSTAMP:20260425T121600Z
DTSTART;VALUE=DATE:20220101
DTEND;VALUE=DATE:20220102
SUMMARY:Council Meeting &#8211\\; 2022
DESCRIPTION:Full Council Meeting\nView details: https://sloley-pc.gov.uk/meetings/council-meeting-2022/
URL:https://sloley-pc.gov.uk/meetings/council-meeting-2022/
END:VEVENT
END:VCALENDAR
